BEGIN:VCALENDAR
VERSION:2.0
PRODID:-//wp-events-plugin.com//7.2.3.1//EN
TZID:Europe/Berlin
X-WR-TIMEZONE:Europe/Berlin
BEGIN:VEVENT
UID:367@sennertanzsportfreunde.de
DTSTART;TZID=Europe/Berlin:20260423T160000
DTEND;TZID=Europe/Berlin:20260423T170000
DTSTAMP:20260115T172301Z
URL:https://sennertanzsportfreunde.de/events/tanzmaeuse-2026-01-15-2026-01
 -22-2026-01-29-2026-02-05-2026-02-12-2026-02-19-2026-02-26-2026-03-05-2026
 -03-12-2026-03-19-2026-03-26-2026-04-02-2026-04-09-2026-04-16-2026-04-23/
SUMMARY:Tanzmäuse
DESCRIPTION:\n 	Tanzmäuse Donnerstag\,  16:00 - 17:00\n
ATTACH;FMTTYPE=image/jpeg:https://sennertanzsportfreunde.de/wp-content/upl
 oads/2025/07/tanzmaeuse.jpeg
CATEGORIES:🐭 Tanzmäuse
LOCATION:H a n d s  O n    /      Praxis für Physiotherapie Menduh Tugal\,
  Karl-Oldewurtel-Str. 40\, Bielefeld\, NRW\, 33659\, NRW\, Deutschland
X-APPLE-STRUCTURED-LOCATION;VALUE=URI;X-ADDRESS=Karl-Oldewurtel-Str. 40\, B
 ielefeld\, NRW\, 33659\, NRW\, Deutschland;X-APPLE-RADIUS=100;X-TITLE=H a 
 n d s  O n    /      Praxis für Physiotherapie Menduh Tugal:geo:0,0
END:VEVENT
BEGIN:VTIMEZONE
TZID:Europe/Berlin
X-LIC-LOCATION:Europe/Berlin
BEGIN:DAYLIGHT
DTSTART:20260329T030000
TZOFFSETFROM:+0100
TZOFFSETTO:+0200
TZNAME:CEST
END:DAYLIGHT
END:VTIMEZONE
END:VCALENDAR