BEGIN:VCALENDAR
VERSION:2.0
PRODID:-//wp-events-plugin.com//7.2.3.1//EN
TZID:Europe/Berlin
X-WR-TIMEZONE:Europe/Berlin
BEGIN:VEVENT
UID:275@sennertanzsportfreunde.de
DTSTART:20260609T190000Z
DTEND:20260609T204500Z
DTSTAMP:20260106T054555Z
URL:https://sennertanzsportfreunde.de/events/yoga-ii-2026-01-06-2026-01-13
 -2026-01-20-2026-01-27-2026-02-03-2026-02-10-2026-02-17-2026-02-24-2026-03
 -03-2026-03-10-2026-03-17-2026-03-24-2026-03-31-2026-04-07-2026-04-14-2026
 -04-21-20-02-2026-06-09/
SUMMARY:Yoga II
DESCRIPTION:
CATEGORIES:🧘 Yoga
LOCATION:Friedenskirche - Ev. Emmaus-Kirchengemeinde Senne\, Friedenskirche
  - Ev. Emmaus-Kirchengemeinde Senne\, Schopenhauerweg 14\, Bielefeld\, NRW
 \, 33659\, Deutschland
X-APPLE-STRUCTURED-LOCATION;VALUE=URI;X-ADDRESS=Friedenskirche - Ev. Emmaus
 -Kirchengemeinde Senne\, Schopenhauerweg 14\, Bielefeld\, NRW\, 33659\, De
 utschland;X-APPLE-RADIUS=100;X-TITLE=Friedenskirche - Ev. Emmaus-Kirchenge
 meinde Senne:geo:0,0
END:VEVENT
END:VCALENDAR