BEGIN:VCALENDAR
VERSION:2.0
PRODID:-//wp-events-plugin.com//7.2.3.1//EN
TZID:Europe/Berlin
X-WR-TIMEZONE:Europe/Berlin
BEGIN:VEVENT
UID:494@sennertanzsportfreunde.de
DTSTART;TZID=Europe/Berlin:20261127T184500
DTEND;TZID=Europe/Berlin:20261127T194500
DTSTAMP:20260115T173424Z
URL:https://sennertanzsportfreunde.de/events/zumba-basic-2026-01-16-2026-0
 1-23-2026-01-30-2026-02-06-2026-02-13-2026-02-20-2026-02-27-2026-03-06-202
 6-03-13-2026-03-20-2026-03-27-2026-04-03-2026-04-10-2026-04-17-2026-04-24-
 2026-05-0-20-2026-11-27/
SUMMARY:Zumba Fitness®
DESCRIPTION:Freitags 18:45. — 19:45
ATTACH;FMTTYPE=image/jpeg:https://sennertanzsportfreunde.de/wp-content/upl
 oads/2020/11/Zumba-Schuhe.jpg
CATEGORIES:💃 Zumba Basic®
LOCATION:Bahnhofschule Senne\, Buschkampstr. 134\, Bielefeld\, NRW\, 33659\
 , NRW\, Deutschland
X-APPLE-STRUCTURED-LOCATION;VALUE=URI;X-ADDRESS=Buschkampstr. 134\, Bielefe
 ld\, NRW\, 33659\, NRW\, Deutschland;X-APPLE-RADIUS=100;X-TITLE=Bahnhofsch
 ule Senne:geo:0,0
END:VEVENT
BEGIN:VTIMEZONE
TZID:Europe/Berlin
X-LIC-LOCATION:Europe/Berlin
BEGIN:STANDARD
DTSTART:20261025T020000
TZOFFSETFROM:+0200
TZOFFSETTO:+0100
TZNAME:CET
END:STANDARD
END:VTIMEZONE
END:VCALENDAR